BEGIN:VCALENDAR
VERSION:2.0
PRODID:-//btv-turnen//btv-turnen.de//DE
CALSCALE:GREGORIAN
BEGIN:VEVENT
DTSTART:20241110T000001Z
DTEND:20241110T235959Z
LOCATION:SV München-Laim
DTSTAMP:20260422T000001Z
SUMMARY:Gaukinderturnfest 2024
UID:20260422T000001Z-20241110T000001Z-20241110T235959Z
END:VEVENT
END:VCALENDAR